BEGIN:VCALENDAR
VERSION:2.0
PRODID:-//Cialona Expo Standbouw - ECPv6.15.17.1//NONSGML v1.0//EN
CALSCALE:GREGORIAN
METHOD:PUBLISH
X-ORIGINAL-URL:https://cialona.nl
X-WR-CALDESC:Evenementen voor Cialona Expo Standbouw
REFRESH-INTERVAL;VALUE=DURATION:PT1H
X-Robots-Tag:noindex
X-PUBLISHED-TTL:PT1H
BEGIN:VTIMEZONE
TZID:Europe/Amsterdam
BEGIN:DAYLIGHT
TZOFFSETFROM:+0100
TZOFFSETTO:+0200
TZNAME:CEST
DTSTART:20240331T010000
END:DAYLIGHT
BEGIN:STANDARD
TZOFFSETFROM:+0200
TZOFFSETTO:+0100
TZNAME:CET
DTSTART:20241027T010000
END:STANDARD
BEGIN:DAYLIGHT
TZOFFSETFROM:+0100
TZOFFSETTO:+0200
TZNAME:CEST
DTSTART:20250330T010000
END:DAYLIGHT
BEGIN:STANDARD
TZOFFSETFROM:+0200
TZOFFSETTO:+0100
TZNAME:CET
DTSTART:20251026T010000
END:STANDARD
BEGIN:DAYLIGHT
TZOFFSETFROM:+0100
TZOFFSETTO:+0200
TZNAME:CEST
DTSTART:20260329T010000
END:DAYLIGHT
BEGIN:STANDARD
TZOFFSETFROM:+0200
TZOFFSETTO:+0100
TZNAME:CET
DTSTART:20261025T010000
END:STANDARD
END:VTIMEZONE
BEGIN:VEVENT
DTSTART;VALUE=DATE:20251028
DTEND;VALUE=DATE:20251029
DTSTAMP:20260421T121533
CREATED:20220713T080653Z
LAST-MODIFIED:20241126T085939Z
UID:26450-1761609600-1761695999@cialona.nl
SUMMARY:KNMP Najaarscongres
DESCRIPTION:Het KNMP Najaarscongres 2025. De Koninklijke Nederlandse Maatschappij ter bevordering der Pharmacie (KNMP) is de beroeps- en brancheorganisatie voor apothekers enÂ apotheken. Tijdens het congres komen spelers uit de branche bij elkaar om te netwerken en nieuwe ontwikkelingen te bespreken. \nBent u exposant tijdens het KNMP Najaarscongres 2025 in het Beatrixtheater in Utrecht? Wij realiseren graag een passende beursstand voor uw organisatie. \n 
URL:https://cialona.nl/beurs/knmp-najaarscongres/
LOCATION:Beatrix Theater Utrecht
CATEGORIES:Beurzen
END:VEVENT
END:VCALENDAR