BEGIN:VCALENDAR
VERSION:2.0
PRODID:-//Cialona Expo Standbouw - ECPv6.15.17.1//NONSGML v1.0//EN
CALSCALE:GREGORIAN
METHOD:PUBLISH
X-WR-CALNAME:Cialona Expo Standbouw
X-ORIGINAL-URL:https://cialona.nl
X-WR-CALDESC:Evenementen voor Cialona Expo Standbouw
REFRESH-INTERVAL;VALUE=DURATION:PT1H
X-Robots-Tag:noindex
X-PUBLISHED-TTL:PT1H
BEGIN:VTIMEZONE
TZID:Europe/Amsterdam
BEGIN:DAYLIGHT
TZOFFSETFROM:+0100
TZOFFSETTO:+0200
TZNAME:CEST
DTSTART:20240331T010000
END:DAYLIGHT
BEGIN:STANDARD
TZOFFSETFROM:+0200
TZOFFSETTO:+0100
TZNAME:CET
DTSTART:20241027T010000
END:STANDARD
BEGIN:DAYLIGHT
TZOFFSETFROM:+0100
TZOFFSETTO:+0200
TZNAME:CEST
DTSTART:20250330T010000
END:DAYLIGHT
BEGIN:STANDARD
TZOFFSETFROM:+0200
TZOFFSETTO:+0100
TZNAME:CET
DTSTART:20251026T010000
END:STANDARD
BEGIN:DAYLIGHT
TZOFFSETFROM:+0100
TZOFFSETTO:+0200
TZNAME:CEST
DTSTART:20260329T010000
END:DAYLIGHT
BEGIN:STANDARD
TZOFFSETFROM:+0200
TZOFFSETTO:+0100
TZNAME:CET
DTSTART:20261025T010000
END:STANDARD
END:VTIMEZONE
BEGIN:VEVENT
DTSTART;VALUE=DATE:20250107
DTEND;VALUE=DATE:20250110
DTSTAMP:20260421T134628
CREATED:20230202T073031Z
LAST-MODIFIED:20241029T102548Z
UID:28170-1736208000-1736467199@cialona.nl
SUMMARY:De groene sector vakbeurs
DESCRIPTION:De groene sector vakbeurs 2025 in evenementenhal Hardenberg is hÃ©t kennis- en netwerkmoment voor de groene branche. Spelers uit de groene branche en geÃ¯nteresseerden\, ontmoeten elkaar op deze vakbeurs. Na een bezoek aan de groene sector vakbeurs bent u weer op de hoogte van de nieuwste machines\, wet- en regelgeving en alle trends en ontwikkelingen binnen de groene branche. \nBent u exposant op de groene sector vakbeurs 2025? Wij helpen u graag aan een passende beursstand\, waarmee u opvalt! Contact u ons? \n 
URL:https://cialona.nl/beurs/de-groene-sector-vakbeurs/
LOCATION:Evenementenhal Hardenberg
CATEGORIES:Beurzen
END:VEVENT
END:VCALENDAR