BEGIN:VCALENDAR
VERSION:2.0
PRODID:-//Cialona Expo Standbouw - ECPv6.15.17.1//NONSGML v1.0//EN
CALSCALE:GREGORIAN
METHOD:PUBLISH
X-WR-CALNAME:Cialona Expo Standbouw
X-ORIGINAL-URL:https://cialona.nl
X-WR-CALDESC:Evenementen voor Cialona Expo Standbouw
REFRESH-INTERVAL;VALUE=DURATION:PT1H
X-Robots-Tag:noindex
X-PUBLISHED-TTL:PT1H
BEGIN:VTIMEZONE
TZID:Europe/Amsterdam
BEGIN:DAYLIGHT
TZOFFSETFROM:+0100
TZOFFSETTO:+0200
TZNAME:CEST
DTSTART:20240331T010000
END:DAYLIGHT
BEGIN:STANDARD
TZOFFSETFROM:+0200
TZOFFSETTO:+0100
TZNAME:CET
DTSTART:20241027T010000
END:STANDARD
BEGIN:DAYLIGHT
TZOFFSETFROM:+0100
TZOFFSETTO:+0200
TZNAME:CEST
DTSTART:20250330T010000
END:DAYLIGHT
BEGIN:STANDARD
TZOFFSETFROM:+0200
TZOFFSETTO:+0100
TZNAME:CET
DTSTART:20251026T010000
END:STANDARD
BEGIN:DAYLIGHT
TZOFFSETFROM:+0100
TZOFFSETTO:+0200
TZNAME:CEST
DTSTART:20260329T010000
END:DAYLIGHT
BEGIN:STANDARD
TZOFFSETFROM:+0200
TZOFFSETTO:+0100
TZNAME:CET
DTSTART:20261025T010000
END:STANDARD
END:VTIMEZONE
BEGIN:VEVENT
DTSTART;VALUE=DATE:20250408
DTEND;VALUE=DATE:20250411
DTSTAMP:20260421T152732
CREATED:20220211T095944Z
LAST-MODIFIED:20240611T055342Z
UID:19158-1744070400-1744329599@cialona.nl
SUMMARY:Interspill
DESCRIPTION:Interspill 2025 is de conferentie en vakbeurs over olierampen. Interspill 2025 is in Excel Londen. Dit event richt zich op de mogelijke problemen die kunnen ontstaan bij toekomstige olielozingen en biedt een platform aan internationale experts en leiders uit de industrie. Hier kunnen zij innovaties laten zien\, bedrijfsontwikkelingen en samen discussiÃ«ren en netwerken. Een waardevol event.\nBent u erbij\, maar heeft u nog geen passende beursstand? Contact ons eens\, we komen graag eens kennismaken!
URL:https://cialona.nl/beurs/interspill/
LOCATION:London Excel Exhibition Centre
CATEGORIES:Beurzen
END:VEVENT
BEGIN:VEVENT
DTSTART;VALUE=DATE:20250304
DTEND;VALUE=DATE:20250307
DTSTAMP:20260421T152732
CREATED:20220211T144524Z
LAST-MODIFIED:20241029T100518Z
UID:19290-1741046400-1741305599@cialona.nl
SUMMARY:Future Build
DESCRIPTION:Future Build 2025; wereldwijd liegen de duurzaamheidsdoelstellingen er niet om. Future Build Holland is juist daarom een accelerator van duurzame innovaties. \nZe presenteren tijdens Future Build visies\, innovaties en oplossingen om de bouw en vastgoedsector te laten zien hoe zij hun doorslaggevende rol in deze â€˜net zeroâ€™ transitie kunnen waarmaken. Onze kracht is het samenbrengen van deeloplossingen die elk apart onderdeel zijn van de integrale oplossing.\nNeem contact met ons op voor een beursstand.
URL:https://cialona.nl/beurs/futurebuild/
LOCATION:London Excel Exhibition Centre
CATEGORIES:Beurzen
END:VEVENT
END:VCALENDAR