BEGIN:VCALENDAR
VERSION:2.0
PRODID:-//Cialona Expo Standbouw - ECPv6.15.17.1//NONSGML v1.0//EN
CALSCALE:GREGORIAN
METHOD:PUBLISH
X-ORIGINAL-URL:https://cialona.nl
X-WR-CALDESC:Evenementen voor Cialona Expo Standbouw
REFRESH-INTERVAL;VALUE=DURATION:PT1H
X-Robots-Tag:noindex
X-PUBLISHED-TTL:PT1H
BEGIN:VTIMEZONE
TZID:Europe/Amsterdam
BEGIN:DAYLIGHT
TZOFFSETFROM:+0100
TZOFFSETTO:+0200
TZNAME:CEST
DTSTART:20240331T010000
END:DAYLIGHT
BEGIN:STANDARD
TZOFFSETFROM:+0200
TZOFFSETTO:+0100
TZNAME:CET
DTSTART:20241027T010000
END:STANDARD
BEGIN:DAYLIGHT
TZOFFSETFROM:+0100
TZOFFSETTO:+0200
TZNAME:CEST
DTSTART:20250330T010000
END:DAYLIGHT
BEGIN:STANDARD
TZOFFSETFROM:+0200
TZOFFSETTO:+0100
TZNAME:CET
DTSTART:20251026T010000
END:STANDARD
BEGIN:DAYLIGHT
TZOFFSETFROM:+0100
TZOFFSETTO:+0200
TZNAME:CEST
DTSTART:20260329T010000
END:DAYLIGHT
BEGIN:STANDARD
TZOFFSETFROM:+0200
TZOFFSETTO:+0100
TZNAME:CET
DTSTART:20261025T010000
END:STANDARD
END:VTIMEZONE
BEGIN:VEVENT
DTSTART;VALUE=DATE:20250701
DTEND;VALUE=DATE:20250705
DTSTAMP:20260421T123551
CREATED:20240227T145817Z
LAST-MODIFIED:20250123T094204Z
UID:33082-1751328000-1751673599@cialona.nl
SUMMARY:IGBLiVE
DESCRIPTION:IGBLiVE is een toonaangevende vakbeurs in de iGaming-industrie. Deze beurs vindt jaarlijks plaats\, ooit in Amsterdam\, Nederland maar in 2025 in Excel Londen. IGB Live brengt professionals uit de wereldwijde iGaming-sector samen. \nTijdens deze beurs worden de nieuwste trends\, innovaties en technologieÃ«n binnen de iGaming-branche aan elkaar gepresenteerd en besproken. Dit is dÃ© kans voor bedrijven in die sector om erbij te zijn en up to date te blijven van de snel veranderende branche waar ze zich in bevinden. \nBent u exposant tijdens de IGBLive en nog op zoek naar een unieke\, opvallende beursstand? Dan bent u bij ons aan het juiste adres! Met ervaring binnen tientallen branches\, is de gaming industrie ons zeker niet vreemd. Kijk eens in ons portfolio om wat meer te zien van de projecten die wij realiseren in binnen- en buitenland. \nWe komen graag in contact om ook voor u zo’n beursstand te ontwikkelen!
URL:https://cialona.nl/beurs/igblive/
LOCATION:London Excel
CATEGORIES:Beurzen
END:VEVENT
END:VCALENDAR