BEGIN:VCALENDAR
VERSION:2.0
PRODID:-//Cialona Expo Standbouw - ECPv6.15.17.1//NONSGML v1.0//EN
CALSCALE:GREGORIAN
METHOD:PUBLISH
X-WR-CALNAME:Cialona Expo Standbouw
X-ORIGINAL-URL:https://cialona.nl
X-WR-CALDESC:Evenementen voor Cialona Expo Standbouw
REFRESH-INTERVAL;VALUE=DURATION:PT1H
X-Robots-Tag:noindex
X-PUBLISHED-TTL:PT1H
BEGIN:VTIMEZONE
TZID:Europe/Amsterdam
BEGIN:DAYLIGHT
TZOFFSETFROM:+0100
TZOFFSETTO:+0200
TZNAME:CEST
DTSTART:20240331T010000
END:DAYLIGHT
BEGIN:STANDARD
TZOFFSETFROM:+0200
TZOFFSETTO:+0100
TZNAME:CET
DTSTART:20241027T010000
END:STANDARD
BEGIN:DAYLIGHT
TZOFFSETFROM:+0100
TZOFFSETTO:+0200
TZNAME:CEST
DTSTART:20250330T010000
END:DAYLIGHT
BEGIN:STANDARD
TZOFFSETFROM:+0200
TZOFFSETTO:+0100
TZNAME:CET
DTSTART:20251026T010000
END:STANDARD
BEGIN:DAYLIGHT
TZOFFSETFROM:+0100
TZOFFSETTO:+0200
TZNAME:CEST
DTSTART:20260329T010000
END:DAYLIGHT
BEGIN:STANDARD
TZOFFSETFROM:+0200
TZOFFSETTO:+0100
TZNAME:CET
DTSTART:20261025T010000
END:STANDARD
END:VTIMEZONE
BEGIN:VEVENT
DTSTART;VALUE=DATE:20251118
DTEND;VALUE=DATE:20251121
DTSTAMP:20260421T172819
CREATED:20230303T101908Z
LAST-MODIFIED:20240709T060706Z
UID:28464-1763424000-1763683199@cialona.nl
SUMMARY:Stainless Steel
DESCRIPTION:Stainless Steel 2025 World Conference & Exhibition is een gerennommeerde driedaagse conferentie en beurs. Het is een belangrijk event in de branche. Stainless Steel 2025 is de 14e wereldconferentie waarin corrosie- en materiaalexperts van over de hele wereld samenkomen op een plek. \nHet is een uniek evenement en biedt zowel fabrikanten als leveranciers\, handelaren en producenten de gelegenheid om elkaar te ontmoeten. Zij komen hier samen met ingenieurs\, eindgebruikers en besluitvormers uit de wereld van roestvrij staal. \nBent u als exposant aanwezig tijdens Stainless Steel 2025? Wij gaan graag met u aan de slag voor een passende beursstand. Heeft u ons portfolio al gezien?
URL:https://cialona.nl/beurs/stainless-steel/
LOCATION:Mecc Maastricht
CATEGORIES:Beurzen
END:VEVENT
BEGIN:VEVENT
DTSTART;VALUE=DATE:20250315
DTEND;VALUE=DATE:20250321
DTSTAMP:20260421T172819
CREATED:20220211T100433Z
LAST-MODIFIED:20240709T064440Z
UID:19163-1741996800-1742515199@cialona.nl
SUMMARY:Tefaf
DESCRIPTION:TEFAF Maastricht 2025. TEFAF Maastricht wordt algemeen beschouwd als ’s werelds belangrijkste beurs voor beeldende kunst\, antiek en design. Met meer dan 275 prestigieuze dealers uit 20 landen is TEFAF Maastricht 2025 een etalage voor de beste kunstwerken die momenteel op de markt zijn. \nNaast de traditionele gebieden met schilderijen van de oude meesters\, antiek en klassieke oudheden die ongeveer de helft van de beurs beslaan\, vindt u hier ook moderne en hedendaagse kunst\, fotografie\, sieraden\, 20e-eeuws design en werken op papier. Bron: https://www.tefaf.com/fairs/tefaf-maastricht \nExposant tijdens TEFAF Maastricht? Wij bouwen graag uw stand\, bekijk ons portfolio en kom vandaag nog met ons in contact.
URL:https://cialona.nl/beurs/tefaf/
LOCATION:Mecc Maastricht
CATEGORIES:Beurzen
END:VEVENT
END:VCALENDAR