BEGIN:VCALENDAR
VERSION:2.0
PRODID:-//Cialona Expo Standbouw - ECPv6.15.17.1//NONSGML v1.0//EN
CALSCALE:GREGORIAN
METHOD:PUBLISH
X-WR-CALNAME:Cialona Expo Standbouw
X-ORIGINAL-URL:https://cialona.nl
X-WR-CALDESC:Evenementen voor Cialona Expo Standbouw
REFRESH-INTERVAL;VALUE=DURATION:PT1H
X-Robots-Tag:noindex
X-PUBLISHED-TTL:PT1H
BEGIN:VTIMEZONE
TZID:Europe/Amsterdam
BEGIN:DAYLIGHT
TZOFFSETFROM:+0100
TZOFFSETTO:+0200
TZNAME:CEST
DTSTART:20240331T010000
END:DAYLIGHT
BEGIN:STANDARD
TZOFFSETFROM:+0200
TZOFFSETTO:+0100
TZNAME:CET
DTSTART:20241027T010000
END:STANDARD
BEGIN:DAYLIGHT
TZOFFSETFROM:+0100
TZOFFSETTO:+0200
TZNAME:CEST
DTSTART:20250330T010000
END:DAYLIGHT
BEGIN:STANDARD
TZOFFSETFROM:+0200
TZOFFSETTO:+0100
TZNAME:CET
DTSTART:20251026T010000
END:STANDARD
BEGIN:DAYLIGHT
TZOFFSETFROM:+0100
TZOFFSETTO:+0200
TZNAME:CEST
DTSTART:20260329T010000
END:DAYLIGHT
BEGIN:STANDARD
TZOFFSETFROM:+0200
TZOFFSETTO:+0100
TZNAME:CET
DTSTART:20261025T010000
END:STANDARD
END:VTIMEZONE
BEGIN:VEVENT
DTSTART;VALUE=DATE:20250228
DTEND;VALUE=DATE:20250303
DTSTAMP:20260419T185913
CREATED:20220211T130125Z
LAST-MODIFIED:20241126T093507Z
UID:19234-1740700800-1740959999@cialona.nl
SUMMARY:ESCRS
DESCRIPTION:ESCRS 2025. \nESCRS is in 1991 opgericht om onderwijs en onderzoek op het gebied van implantaat- en refractieve chirurgie te bevorderen en de studie en praktijk van oogheelkunde te bevorderen en te bevorderen. ESCRS wil onderzoek op het gebied van intraoculaire lensimplantatie en refractieve chirurgie en de verspreiding van de bruikbare resultaten daarvan bevorderen en ondersteunen. ESCRS heeft meer dan 7.500 leden uit 130 landen wereldwijd.
URL:https://cialona.nl/beurs/escrs/
LOCATION:Megaron Athens Greece
CATEGORIES:Beurzen
END:VEVENT
END:VCALENDAR