BEGIN:VCALENDAR
VERSION:2.0
PRODID:-//Cialona Expo Standbouw - ECPv6.15.17.1//NONSGML v1.0//EN
CALSCALE:GREGORIAN
METHOD:PUBLISH
X-WR-CALNAME:Cialona Expo Standbouw
X-ORIGINAL-URL:https://cialona.nl
X-WR-CALDESC:Evenementen voor Cialona Expo Standbouw
REFRESH-INTERVAL;VALUE=DURATION:PT1H
X-Robots-Tag:noindex
X-PUBLISHED-TTL:PT1H
BEGIN:VTIMEZONE
TZID:Europe/Amsterdam
BEGIN:DAYLIGHT
TZOFFSETFROM:+0100
TZOFFSETTO:+0200
TZNAME:CEST
DTSTART:20230326T010000
END:DAYLIGHT
BEGIN:STANDARD
TZOFFSETFROM:+0200
TZOFFSETTO:+0100
TZNAME:CET
DTSTART:20231029T010000
END:STANDARD
BEGIN:DAYLIGHT
TZOFFSETFROM:+0100
TZOFFSETTO:+0200
TZNAME:CEST
DTSTART:20240331T010000
END:DAYLIGHT
BEGIN:STANDARD
TZOFFSETFROM:+0200
TZOFFSETTO:+0100
TZNAME:CET
DTSTART:20241027T010000
END:STANDARD
BEGIN:DAYLIGHT
TZOFFSETFROM:+0100
TZOFFSETTO:+0200
TZNAME:CEST
DTSTART:20250330T010000
END:DAYLIGHT
BEGIN:STANDARD
TZOFFSETFROM:+0200
TZOFFSETTO:+0100
TZNAME:CET
DTSTART:20251026T010000
END:STANDARD
BEGIN:DAYLIGHT
TZOFFSETFROM:+0100
TZOFFSETTO:+0200
TZNAME:CEST
DTSTART:20260329T010000
END:DAYLIGHT
BEGIN:STANDARD
TZOFFSETFROM:+0200
TZOFFSETTO:+0100
TZNAME:CET
DTSTART:20261025T010000
END:STANDARD
END:VTIMEZONE
BEGIN:VEVENT
DTSTART;VALUE=DATE:20251009
DTEND;VALUE=DATE:20251015
DTSTAMP:20260421T121059
CREATED:20220214T085215Z
LAST-MODIFIED:20241107T125737Z
UID:19398-1759968000-1760486399@cialona.nl
SUMMARY:IAA
DESCRIPTION:De IAA is de leading mobiliteitsbeurs. \nDe IAAÂ  Mobility Show toont de mobiliteit van de toekomst\, toewijding aan constante verandering en een platform voor iedereen die de toekomst vormgeeft. \nAls exposant aanwezig tijdens de IAA Mobility Show 2025 in Munchen? Contact ons vandaag nog! \n  \nhttps://www.iaa-mobility.com/en \n 
URL:https://cialona.nl/beurs/iaa/
LOCATION:Messe München\, 81823 Munich\, Munchen\, 81823 Munich
CATEGORIES:Beurzen
END:VEVENT
BEGIN:VEVENT
DTSTART;VALUE=DATE:20250507
DTEND;VALUE=DATE:20250510
DTSTAMP:20260421T121059
CREATED:20221025T090930Z
LAST-MODIFIED:20240703T124753Z
UID:26914-1746576000-1746835199@cialona.nl
SUMMARY:Intersolar
DESCRIPTION:Intersolar 2025 in Munchen. Intersolar is ’s werelds toonaangevende beurs voor de zonne-industrie. Zij zeggen zelf ”Connecting Solar Business”\, hier komen dus fabrikanten\, leveranciers\, distributeurs\, dienstverleners en ontwikkelaars van over de hele wereld samen. De beurs vindt plaats in Munchen\, waar zij de nieuwste ontwikkelingen en trends bespreken. Innovaties zie je hier uit eerste hand en nieuwe klanten dienen zich hier aan. \nAanwezig bij Intersolar 2025 in Munchen? Wij helpen u graag aan een passende beursstand om op te vallen bij uw publiek.
URL:https://cialona.nl/beurs/intersolar/
LOCATION:Messe München\, 81823 Munich\, Munchen\, 81823 Munich
CATEGORIES:Beurzen
END:VEVENT
BEGIN:VEVENT
DTSTART;VALUE=DATE:20241203
DTEND;VALUE=DATE:20241206
DTSTAMP:20260421T121059
CREATED:20240411T094538Z
LAST-MODIFIED:20240411T094557Z
UID:33369-1733184000-1733443199@cialona.nl
SUMMARY:ISPO
DESCRIPTION:ISPO Munchen\, is ’s werelds grootste sportbeurs waar zo’n drieduizend exposanten uit meer dan 55 landen samenkomen. Hier presenteren zij belangrijke ontwikkelingen en innovaties uit de wereld van sport. Tijdens de ISPO vertellen ook vele sprekers over hun mindset\, teamgeest en voeren discussies over empowerment\, geestelijke gezondheid en circulaire economie. Kortom\, een erg interessante beurs voor spelers in de wereld van de sport en alles wat daarbij komt kijken. \nBent u exposant tijdens ISPO Munchen 2024? Cialona Expo helpt u graag aan een sportieve\, opvallende beursstand. Contact ons vandaag nog. \nBekijk hier als voorbeeld de beursstand van XXL Nutrition.
URL:https://cialona.nl/beurs/ispo-munchen/
LOCATION:Messe München\, 81823 Munich\, Munchen\, 81823 Munich
CATEGORIES:Beurzen
END:VEVENT
END:VCALENDAR