BEGIN:VCALENDAR
VERSION:2.0
PRODID:-//Cialona Expo Standbouw - ECPv6.15.17.1//NONSGML v1.0//EN
CALSCALE:GREGORIAN
METHOD:PUBLISH
X-WR-CALNAME:Cialona Expo Standbouw
X-ORIGINAL-URL:https://cialona.nl
X-WR-CALDESC:Evenementen voor Cialona Expo Standbouw
REFRESH-INTERVAL;VALUE=DURATION:PT1H
X-Robots-Tag:noindex
X-PUBLISHED-TTL:PT1H
BEGIN:VTIMEZONE
TZID:Europe/Amsterdam
BEGIN:DAYLIGHT
TZOFFSETFROM:+0100
TZOFFSETTO:+0200
TZNAME:CEST
DTSTART:20250330T010000
END:DAYLIGHT
BEGIN:STANDARD
TZOFFSETFROM:+0200
TZOFFSETTO:+0100
TZNAME:CET
DTSTART:20251026T010000
END:STANDARD
BEGIN:DAYLIGHT
TZOFFSETFROM:+0100
TZOFFSETTO:+0200
TZNAME:CEST
DTSTART:20260329T010000
END:DAYLIGHT
BEGIN:STANDARD
TZOFFSETFROM:+0200
TZOFFSETTO:+0100
TZNAME:CET
DTSTART:20261025T010000
END:STANDARD
BEGIN:DAYLIGHT
TZOFFSETFROM:+0100
TZOFFSETTO:+0200
TZNAME:CEST
DTSTART:20270328T010000
END:DAYLIGHT
BEGIN:STANDARD
TZOFFSETFROM:+0200
TZOFFSETTO:+0100
TZNAME:CET
DTSTART:20271031T010000
END:STANDARD
BEGIN:DAYLIGHT
TZOFFSETFROM:+0100
TZOFFSETTO:+0200
TZNAME:CEST
DTSTART:20280326T010000
END:DAYLIGHT
BEGIN:STANDARD
TZOFFSETFROM:+0200
TZOFFSETTO:+0100
TZNAME:CET
DTSTART:20281029T010000
END:STANDARD
END:VTIMEZONE
BEGIN:VEVENT
DTSTART;VALUE=DATE:20261005
DTEND;VALUE=DATE:20261008
DTSTAMP:20260421T105459
CREATED:20240312T091654Z
LAST-MODIFIED:20260113T073737Z
UID:33205-1791158400-1791417599@cialona.nl
SUMMARY:EXPO REAL
DESCRIPTION:EXPO REAL 2026 in Messe Munchen. EXPO REAL Munchen is voor de grote spelers in de vastgoedsector en dat alles op een plek in Messe Munchen. Bezoekers komen hier om informatie te vergaren over alle facetten binnen de vastgoedbranche. De hele levenscyclus van concept en ontwikkeling\, financiering\, realisatie\, marketing\, exploitatie en gebruik komen hier aan bod. \nBent u als exposant aanwezig tijdens EXPO REAL vastgoedbeurs in Munchen? Cialona Expo helpt u graag met een unieke beursstand! Wij hebben veel ervaring met beursstands van organisaties in de vastgoedbranche\, kijk bijvoorbeeld de stand van Van Wijnen op de Provada. \nEens kennismaken?Â  \n 
URL:https://cialona.nl/beurs/expo-real/
LOCATION:Messe München\, 81823 Munich\, Munchen\, 81823 Munich
CATEGORIES:Beurzen
END:VEVENT
BEGIN:VEVENT
DTSTART;VALUE=DATE:20270111
DTEND;VALUE=DATE:20270116
DTSTAMP:20260421T105459
CREATED:20240619T121709Z
LAST-MODIFIED:20250214T105133Z
UID:34353-1799625600-1800057599@cialona.nl
SUMMARY:Bau Munchen
DESCRIPTION:Bau Munchen is een grote internationale vakbeurs voor achitectuur\, materialen en systemen die plaatsvindt in MÃ¼nchen\, Duitsland. Deze beurs brengt professionals bij elkaar uit de bouw- en achitectuursector die hier de nieuwste innovaties\, trends en technologieÃ«n laten zien en ontdekken. \nDe Bau biedt door zijn uitgebreid aanbod aan exposanten\, seminars en workshops een goede kans om kennis uit te wisselen\, netwerken en baanbrekende oplossingen te ontdekken. Dus\, voor organisaties actief in de bouw en ontwerpindustrie is dit dÃ© beurs! \nBent u exposant tijdens de Bau 2027 in Messe Munchen? Cialona Expo standbouw\, thuis in deze beurshal en in de branche\, voorziet u graag van een passende beursstand. Contact u ons?
URL:https://cialona.nl/beurs/bau-munchen/
LOCATION:Messe München\, 81823 Munich\, Munchen\, 81823 Munich
CATEGORIES:Beurzen
END:VEVENT
END:VCALENDAR