BEGIN:VCALENDAR
VERSION:2.0
PRODID:-//Cialona Expo Standbouw - ECPv6.15.17.1//NONSGML v1.0//EN
CALSCALE:GREGORIAN
METHOD:PUBLISH
X-WR-CALNAME:Cialona Expo Standbouw
X-ORIGINAL-URL:https://cialona.nl
X-WR-CALDESC:Evenementen voor Cialona Expo Standbouw
REFRESH-INTERVAL;VALUE=DURATION:PT1H
X-Robots-Tag:noindex
X-PUBLISHED-TTL:PT1H
BEGIN:VTIMEZONE
TZID:Europe/Amsterdam
BEGIN:DAYLIGHT
TZOFFSETFROM:+0100
TZOFFSETTO:+0200
TZNAME:CEST
DTSTART:20240331T010000
END:DAYLIGHT
BEGIN:STANDARD
TZOFFSETFROM:+0200
TZOFFSETTO:+0100
TZNAME:CET
DTSTART:20241027T010000
END:STANDARD
BEGIN:DAYLIGHT
TZOFFSETFROM:+0100
TZOFFSETTO:+0200
TZNAME:CEST
DTSTART:20250330T010000
END:DAYLIGHT
BEGIN:STANDARD
TZOFFSETFROM:+0200
TZOFFSETTO:+0100
TZNAME:CET
DTSTART:20251026T010000
END:STANDARD
BEGIN:DAYLIGHT
TZOFFSETFROM:+0100
TZOFFSETTO:+0200
TZNAME:CEST
DTSTART:20260329T010000
END:DAYLIGHT
BEGIN:STANDARD
TZOFFSETFROM:+0200
TZOFFSETTO:+0100
TZNAME:CET
DTSTART:20261025T010000
END:STANDARD
END:VTIMEZONE
BEGIN:VEVENT
DTSTART;VALUE=DATE:20251111
DTEND;VALUE=DATE:20251114
DTSTAMP:20260421T134137
CREATED:20240501T135520Z
LAST-MODIFIED:20250214T104205Z
UID:33601-1762819200-1763078399@cialona.nl
SUMMARY:Foam Expo Europe
DESCRIPTION:Foam Expo Europe. Europa’s grootste vakbeurs en conferentie met de focus op technische schuimproducten en de productie ervan. Dit is voor spelers in de schuimindustrie de plek om in contact te komen met elkaar en hier de nieuwste technologieÃ«n en ideeÃ«n te zien. \nAls exposant aanwezig tijdens de volgende editie van de Foam Expo Europe? Cialona Expo\, met jarenlange standbouw ervaring Ã©n ervaring op de Foam Expo Europe\, helpt u graag aan een passende beursstand.
URL:https://cialona.nl/beurs/foam-expo-europe/
LOCATION:Messe Stuttgart
CATEGORIES:Beurzen
END:VEVENT
BEGIN:VEVENT
DTSTART;VALUE=DATE:20250603
DTEND;VALUE=DATE:20250606
DTSTAMP:20260421T134137
CREATED:20220211T100812Z
LAST-MODIFIED:20240709T091608Z
UID:19168-1748908800-1749167999@cialona.nl
SUMMARY:The Battery Show
DESCRIPTION:The Battery Show 2025. In juni 2025 vindt de Battery Show weer plaats in Stuttgart\, Duitsland. \nThe Battery Show biedt een wereldwijd platform om de vooruitgang van grootschalige geavanceerde batterijen tentoon te stellen en te demonsteren. Denk hierbij aan batterijen voor bijvoorbeeld elektrische voertuigen\, netwerkondersteuning en verbeteringen van alternatieve energie. Deze beurs benadrukt de innovatie in de hele toeleveringsketen van de branche. De ontwikkelingen die hier gedeeld worden\, zijn op het gebied van grondstoffen tot en met batterijpakketsystemen. \nWerkzaam in deze branche\, maar nog geen eye-catching stand voor Battery Show 2025? Contact ons eens voor een gaaf voorstel!
URL:https://cialona.nl/beurs/battery-show/
LOCATION:Messe Stuttgart
CATEGORIES:Beurzen
END:VEVENT
BEGIN:VEVENT
DTSTART;VALUE=DATE:20250311
DTEND;VALUE=DATE:20250314
DTSTAMP:20260421T134137
CREATED:20220211T083622Z
LAST-MODIFIED:20260330T111852Z
UID:19093-1741651200-1741910399@cialona.nl
SUMMARY:Logimat
DESCRIPTION:Logimat 2027. \nLogiMAT biedt het vakpubliek een uitgebreid overzicht van alle hoofdthema’s in de sector\, van inkoop tot productie en levering. \nInternationale exposanten presenteren innovatieve technologieën\, producten\, systemen en oplossingen voor rationalisatie\, procesoptimalisatie en kostenreductie van in-company logistieke processen. \nLogiMAT 2027 biedt kennis voor de praktijk zet trends toont visies voor de toekomst.
URL:https://cialona.nl/beurs/logimat/
LOCATION:Messe Stuttgart
CATEGORIES:Beurzen
END:VEVENT
END:VCALENDAR