BEGIN:VCALENDAR
VERSION:2.0
PRODID:-//Cialona Expo Standbouw - ECPv6.15.17.1//NONSGML v1.0//EN
CALSCALE:GREGORIAN
METHOD:PUBLISH
X-WR-CALNAME:Cialona Expo Standbouw
X-ORIGINAL-URL:https://cialona.nl
X-WR-CALDESC:Evenementen voor Cialona Expo Standbouw
REFRESH-INTERVAL;VALUE=DURATION:PT1H
X-Robots-Tag:noindex
X-PUBLISHED-TTL:PT1H
BEGIN:VTIMEZONE
TZID:Europe/Amsterdam
BEGIN:DAYLIGHT
TZOFFSETFROM:+0100
TZOFFSETTO:+0200
TZNAME:CEST
DTSTART:20210328T010000
END:DAYLIGHT
BEGIN:STANDARD
TZOFFSETFROM:+0200
TZOFFSETTO:+0100
TZNAME:CET
DTSTART:20211031T010000
END:STANDARD
BEGIN:DAYLIGHT
TZOFFSETFROM:+0100
TZOFFSETTO:+0200
TZNAME:CEST
DTSTART:20220327T010000
END:DAYLIGHT
BEGIN:STANDARD
TZOFFSETFROM:+0200
TZOFFSETTO:+0100
TZNAME:CET
DTSTART:20221030T010000
END:STANDARD
BEGIN:DAYLIGHT
TZOFFSETFROM:+0100
TZOFFSETTO:+0200
TZNAME:CEST
DTSTART:20230326T010000
END:DAYLIGHT
BEGIN:STANDARD
TZOFFSETFROM:+0200
TZOFFSETTO:+0100
TZNAME:CET
DTSTART:20231029T010000
END:STANDARD
BEGIN:DAYLIGHT
TZOFFSETFROM:+0100
TZOFFSETTO:+0200
TZNAME:CEST
DTSTART:20240331T010000
END:DAYLIGHT
BEGIN:STANDARD
TZOFFSETFROM:+0200
TZOFFSETTO:+0100
TZNAME:CET
DTSTART:20241027T010000
END:STANDARD
BEGIN:DAYLIGHT
TZOFFSETFROM:+0100
TZOFFSETTO:+0200
TZNAME:CEST
DTSTART:20250330T010000
END:DAYLIGHT
BEGIN:STANDARD
TZOFFSETFROM:+0200
TZOFFSETTO:+0100
TZNAME:CET
DTSTART:20251026T010000
END:STANDARD
BEGIN:DAYLIGHT
TZOFFSETFROM:+0100
TZOFFSETTO:+0200
TZNAME:CEST
DTSTART:20260329T010000
END:DAYLIGHT
BEGIN:STANDARD
TZOFFSETFROM:+0200
TZOFFSETTO:+0100
TZNAME:CET
DTSTART:20261025T010000
END:STANDARD
BEGIN:DAYLIGHT
TZOFFSETFROM:+0100
TZOFFSETTO:+0200
TZNAME:CEST
DTSTART:20270328T010000
END:DAYLIGHT
BEGIN:STANDARD
TZOFFSETFROM:+0200
TZOFFSETTO:+0100
TZNAME:CET
DTSTART:20271031T010000
END:STANDARD
END:VTIMEZONE
BEGIN:VEVENT
DTSTART;VALUE=DATE:20260310
DTEND;VALUE=DATE:20260314
DTSTAMP:20260421T121353
CREATED:20220209T103048Z
LAST-MODIFIED:20240703T122919Z
UID:18945-1773100800-1773446399@cialona.nl
SUMMARY:Intertraffic
DESCRIPTION:Intertraffic 2026. “Ervaar de nieuwste oplossingen voor de uitdagingen van vandaag met alle experts in het veld. Ontdek de laatste trends in infrastructuur\, verkeersmanagement\, slimme mobiliteit\, verkeersveiligheid en parkeren!” https://www.intertraffic.com/amsterdam/
URL:https://cialona.nl/beurs/intertraffic/
LOCATION:RAI Amsterdam
CATEGORIES:Beurzen
END:VEVENT
BEGIN:VEVENT
DTSTART;VALUE=DATE:20260112
DTEND;VALUE=DATE:20260116
DTSTAMP:20260421T121353
CREATED:20220214T075245Z
LAST-MODIFIED:20250214T104859Z
UID:19338-1768176000-1768521599@cialona.nl
SUMMARY:Horecava
DESCRIPTION:De Horecava 2026. Al 65 jaar is de Horecava beurs in de Rai Amsterdam dÃ© plek voor vakmensen in de wereld van eten\, drinken en buitenshuis slapen. \nRuim 55.000 horecaprofessionals van ruim 35.000 geÃ¯nteresseerde bedrijven zijn op zoek naar trends en nieuwe producten en diensten. \nDeelnemen aan Horecava 2026\, maar nog geen beursstand? Contact ons eens\, wij creÃ«ren graag samen een passende beursstand!
URL:https://cialona.nl/beurs/horecava/
LOCATION:RAI Amsterdam
CATEGORIES:Beurzen
END:VEVENT
BEGIN:VEVENT
DTSTART;VALUE=DATE:20251118
DTEND;VALUE=DATE:20251121
DTSTAMP:20260421T121353
CREATED:20220211T150519Z
LAST-MODIFIED:20241126T092022Z
UID:19310-1763424000-1763683199@cialona.nl
SUMMARY:Metstrade
DESCRIPTION:Metstrade 2025 is ’s werelds grootste vakbeurs voor apparatuur\, materialen en systemen voor de Maritieme Industrie. De Internationale B2B-beurs voor de maritieme recreatie industrie\, dient als platform voor innovatie\, marktontwikkelingen en netwerken. Naast de recreatievaart industrie\, worden er ook nog gespecialiseerde sectoren aangesproken tijden Metstrade 2025 in Rai Amsterdam. Namelijk: Superyachts\, Jachthavens en Werven en Bouwmaterialen. \nBent u exposant tijdens de volgende editie van de Metstrade? Contact ons\, we vertellen graag alles over onze werkwijze in de standbouw!
URL:https://cialona.nl/beurs/metstrade/
LOCATION:RAI Amsterdam
CATEGORIES:Beurzen
END:VEVENT
BEGIN:VEVENT
DTSTART;VALUE=DATE:20251021
DTEND;VALUE=DATE:20251024
DTSTAMP:20260421T121353
CREATED:20230202T090139Z
LAST-MODIFIED:20241029T094925Z
UID:28183-1761004800-1761263999@cialona.nl
SUMMARY:Parcel + Post Expo
DESCRIPTION:Parcel + Post Expo 2025 Rai Amsterdam. Dit is het event voor pakketbezorging\, e-commerce logistiek en de postindustrie. Het internationale event toont de meest innovatieve technologieÃ«n\, opinies van experts uit de industrie en biedt netwerkmogelijkheden. Internationale spelers uit de branche komen samen tijdens de Parcel + Post om hun ideeÃ«n te delen\, innovatie t vinden en proberen een efficiÃ«ntere en duurzamere oplossing te bieden. \nBent u exposant tijdens deze vakbeurs\, de Parcel Post Expo 2025? Wij zijn als professionele standbouwer bekend met deze beurs. Wij helpen u graag aan een passende beursstand waarmee u opvalt tijdens uw beursdeelname. Contact u ons? \n 
URL:https://cialona.nl/beurs/parcel-post-expo/
LOCATION:RAI Amsterdam
CATEGORIES:Beurzen
END:VEVENT
BEGIN:VEVENT
DTSTART;VALUE=DATE:20250912
DTEND;VALUE=DATE:20250916
DTSTAMP:20260421T121353
CREATED:20230314T133026Z
LAST-MODIFIED:20241029T081059Z
UID:28484-1757635200-1757980799@cialona.nl
SUMMARY:IBC
DESCRIPTION:IBC beurs\, een toonaangevende beurs met meer dan 1000 exposanten\, waaronder grote spelers op het gebied van media\, entertainment en technologie. Denk aan Google\, Microsoft\, Adobe en Amazon. Hier demonstreren zij innovatie en geavanceerde technologie aan meer dan 38.000 bezoekers uit meer dan 170 landen. \nBent u aanwezig als exposant tijdens de volgende editie van de IBC beurs in Rai Amsterdam? Wij helpen je graag bij het vinden van een geschikte beursstand waarmee je opvalt tussen alle anderen. Contact ons vandaag nog!
URL:https://cialona.nl/beurs/ibc/
LOCATION:RAI Amsterdam
CATEGORIES:Beurzen
END:VEVENT
BEGIN:VEVENT
DTSTART;VALUE=DATE:20250624
DTEND;VALUE=DATE:20250627
DTSTAMP:20260421T121353
CREATED:20220211T095134Z
LAST-MODIFIED:20240709T092205Z
UID:19148-1750723200-1750982399@cialona.nl
SUMMARY:Electric & Hybrid Marine World Expo
DESCRIPTION:Electric & Hybrid Marine World Expo 2025. De internationale beurs omtrent elektrische en hybride scheepslaad- en voortstuwingstechnologieÃ«n en componenten. \nBeursstand nodig voor Electric & Hybrid Marine World Expo 2025? Cialona Expo helpt u graag aan een passende stand.
URL:https://cialona.nl/beurs/electric-hybrid-marine-world-expo/
LOCATION:RAI Amsterdam
CATEGORIES:Beurzen
END:VEVENT
BEGIN:VEVENT
DTSTART;VALUE=DATE:20250617
DTEND;VALUE=DATE:20250620
DTSTAMP:20260421T121353
CREATED:20220211T090341Z
LAST-MODIFIED:20240709T085522Z
UID:19118-1750118400-1750377599@cialona.nl
SUMMARY:Provada
DESCRIPTION:PROVADA is bekend als de grootste vastgoedbeurs van Nederland en organiseert daarnaast diverse virtuele & fysieke events waarbij kennisdeling\, inspiratie en netwerken centraal staan. Provada\, Dare to Dream\, Together for a better built environment. \nBent u als exposant aanwezig tijdens Provada 2025? Wij helpen u graag aan een passende beursstand die opvalt.
URL:https://cialona.nl/beurs/provada/
LOCATION:RAI Amsterdam
CATEGORIES:Beurzen
END:VEVENT
BEGIN:VEVENT
DTSTART;VALUE=DATE:20250610
DTEND;VALUE=DATE:20250613
DTSTAMP:20260421T121353
CREATED:20220211T093238Z
LAST-MODIFIED:20240709T091101Z
UID:19128-1749513600-1749772799@cialona.nl
SUMMARY:Greentech Amsterdam
DESCRIPTION:De wereldwijde ontmoetingsplaats voor professionals in de tuinbouw. Exposanten en bezoekers zijn professionals uit de tuinbouwtechnologie branche\, die zich wereldwijd richten op de hedendaagse uitdagingen van telers. \nDe Greentech richt zich op de vroege stadia van de tuinbouwketen en productiezaken die relevant zijn voor telers. Jaarlijks zijn er twee beurzen\, waarvan een in Rai Amsterdam\, Nederland. \nGreentech 2025 Amsterdam. Standbouwer nodig? Contact ons vandaag nog!
URL:https://cialona.nl/beurs/greentech/
LOCATION:RAI Amsterdam
CATEGORIES:Beurzen
END:VEVENT
BEGIN:VEVENT
DTSTART;VALUE=DATE:20250603
DTEND;VALUE=DATE:20250606
DTSTAMP:20260421T121353
CREATED:20220324T073106Z
LAST-MODIFIED:20240913T110712Z
UID:24985-1748908800-1749167999@cialona.nl
SUMMARY:Money 20/20
DESCRIPTION:Money 20/20 in Amsterdam\, juni 2025. Het belangrijkste event op de kalender waar C-level executives\, gerenommeerde sprekers\, innovators en disruptors van over de hele wereld verandering in de toekomst van geld stimuleren. Het event in Amsterdam duurt drie dagen\, waar je connecties kunt leggen\, gesprekken kunt voeren en de juiste ontdekkingen van interessante individuen en organisaties kunt doen om te kunnen groeien. \nTijdens Money 20/20 worden individuen die er toe doen in de fintech samengebracht. Dit is de plek waar de industrie vooruit gaat. Van techreuzen tot startups\, het is een continue botsing van mensen en doelen. Men wordt hier gestimuleerd om nieuwe partnerschappen en strategieÃ«n aan te gaan. Dit is de toekomst. \nBent u een van die bijna 2000 organisaties die deelneemt aan Money 20/20 2025 in Amsterdam en wilt u opvallen tijdens het event? Contact ons voor de mogelijkheden en ontvang een vrijblijvende offerte.
URL:https://cialona.nl/beurs/money2020/
LOCATION:RAI Amsterdam
CATEGORIES:Beurzen
END:VEVENT
BEGIN:VEVENT
DTSTART;VALUE=DATE:20250520
DTEND;VALUE=DATE:20250522
DTSTAMP:20260421T121353
CREATED:20220214T082651Z
LAST-MODIFIED:20240709T094320Z
UID:19373-1747699200-1747871999@cialona.nl
SUMMARY:PLMA
DESCRIPTION:De jaarlijkse Roundtable Conference van PLMA helpt aangesloten fabrikanten en retailers om meer te weten te komen over de nieuwste trends\, kansen in private label te identificeren en concurrentie-uitdagingen te begrijpen. PLMA 2025 is in de RAI in Amsterdam en vindt plaats in mei. \nSprekers zijn onder meer marktonderzoeksspecialisten\, retailmanagers en vakjournalisten. Beursstand nodig voor PLMA 2025 in Rai Amsterdam? Contact ons eens voor de mogelijkheden.
URL:https://cialona.nl/beurs/plma/
LOCATION:RAI Amsterdam
CATEGORIES:Beurzen
END:VEVENT
BEGIN:VEVENT
DTSTART;VALUE=DATE:20250408
DTEND;VALUE=DATE:20250411
DTSTAMP:20260421T121353
CREATED:20220214T080735Z
LAST-MODIFIED:20240913T121618Z
UID:19353-1744070400-1744329599@cialona.nl
SUMMARY:Amsterdam Drone Week (ADM)
DESCRIPTION:Amsterdam Drone Week ADM 2025. \nAmsterdam Drone week is het wereldwijde platform voor het delen van kennis over actuele luchtoplossingen\, mogelijke innovaties en vitale regelgeving. Tijdens ADW komen alle belangrijke spelers\, groot en klein\, commercieel en niet-commercieel\, uit verschillende industrieÃ«n\, kennisinstellingen en overheden samen om samen te creÃ«ren en samen te werken.
URL:https://cialona.nl/beurs/amsterdam-drone-week-adm/
LOCATION:RAI Amsterdam
CATEGORIES:Beurzen
END:VEVENT
BEGIN:VEVENT
DTSTART;VALUE=DATE:20250311
DTEND;VALUE=DATE:20250315
DTSTAMP:20260421T121353
CREATED:20220209T084538Z
LAST-MODIFIED:20240104T095635Z
UID:18917-1741651200-1741996799@cialona.nl
SUMMARY:Aquatech
DESCRIPTION:Aquatech 2025 Amsterdam is het toonaangevende platform van watertechnologie voor proces- drink- & afvalwater. \nAquatech is ’s werelds meest complete platform voor professionals in de wereld van watertechnologie. Tijdens inspirerende evenementen bieden we professionals uit de industrie een compleet overzicht van producten en diensten van ’s werelds toonaangevende bedrijven. We voorzien u ook van het laatste nieuws\, standpunten & analyses over proces-\, drink- en afvalwater. \n 
URL:https://cialona.nl/beurs/aquatech/
LOCATION:RAI Amsterdam
CATEGORIES:Beurzen
END:VEVENT
BEGIN:VEVENT
DTSTART;VALUE=DATE:20250222
DTEND;VALUE=DATE:20250302
DTSTAMP:20260421T121353
CREATED:20220209T121430Z
LAST-MODIFIED:20240819T123133Z
UID:18976-1740182400-1740873599@cialona.nl
SUMMARY:Huishoudbeurs
DESCRIPTION:De Huishoudbeurs in RAI Amsterdam weet sinds 1950 wat vrouwen beweegt. De eerstvolgende editie is de Huishoudbeurs 2025. Je vindt er de laatste trends en ontwikkelingen op het gebied van mode\, verzorging\, wonen\, vrije tijd\, culinair\, gezondheid\, workshops en nog zoveel meer. Als organisatie is het van belang op te vallen tussen alle andere kleurrijke stands met leuke goodies en winacties. \nWij maken graag die unieke stand voor jouw organisatie! Huishoudbeurs 2025 is wederom in de Rai in Amsterdam. Contact ons vandaag nog voor een vrijblijvende kennismaking!
URL:https://cialona.nl/beurs/huishoudbeurs/
LOCATION:RAI Amsterdam
CATEGORIES:Beurzen
END:VEVENT
BEGIN:VEVENT
DTSTART;VALUE=DATE:20241015
DTEND;VALUE=DATE:20241018
DTSTAMP:20260421T121353
CREATED:20240410T143901Z
LAST-MODIFIED:20240410T143901Z
UID:33359-1728950400-1729209599@cialona.nl
SUMMARY:ESTEC
DESCRIPTION:ESTEC\, de beurs waar deelnemers worden geÃ¯nspireerd met baanbrekende innovaties op het gebied van hernieuwbare energie en de opslag ervan. Baanbrekende ideeÃ«n en ontwerpen tonen het menselijk kunnen dat de energietransitie enorm versneld. \nBezoekers aan deze beurs zien het potentieel van innovaties om de toekomst van energie te veranderen. \nBent u exposant tijdens de ESTEC 2024 in Amsterdam? Wij helpen u graag aan een duurzame beursstand die opvalt tijdens deze beurs. Eens kennismaken?Â 
URL:https://cialona.nl/beurs/estec/
LOCATION:RAI Amsterdam
CATEGORIES:Beurzen
END:VEVENT
BEGIN:VEVENT
DTSTART;VALUE=DATE:20231002
DTEND;VALUE=DATE:20231005
DTSTAMP:20260421T121353
CREATED:20220928T112334Z
LAST-MODIFIED:20220928T112334Z
UID:26776-1696204800-1696463999@cialona.nl
SUMMARY:IFSEC Europe
DESCRIPTION:IFSEC Europe 2023 in Rai Amsterdam. IFSEC Europe 2023 is een beveiligingsbeurs. Hier kan men netwerken en zaken doen met de gehele inkoopketen voor beveiliging\, oplossingen ontdekken en producten zien horen en testen. Aanbieders en afnemers van toegangscontrole\, videobewaking\, cyberbeveiliging en ga zo maar door. \nBent u aanwezig als exposant tijdens IFSEC 2023 in Rai Amsterdam? Wij ontwerpen en realiseren graag uw beursstand.
URL:https://cialona.nl/beurs/ifsec/
LOCATION:RAI Amsterdam
CATEGORIES:Beurzen
END:VEVENT
BEGIN:VEVENT
DTSTART;VALUE=DATE:20220629
DTEND;VALUE=DATE:20220702
DTSTAMP:20260421T121353
CREATED:20220211T101356Z
LAST-MODIFIED:20220211T101356Z
UID:19173-1656460800-1656719999@cialona.nl
SUMMARY:Vabotech
DESCRIPTION:Vabotech 2022\, de beurs voor bouw\, installatie en elektrotechniek\, vindt plaats in de Rai in Amsterdam. Tijdens de Vabotech 2022 komen beursbezoekers hier samen voor:Â  bouw\, w-installatie en elektrotechniek samen om productinnovaties\, bouwmaterieel\, bouw- en installatiemateriaal en gereedschappen\, maar ook voor bedrijfskleding of bedrijfswagens. \nHet is een vakbeurs die veel facetten van de bouw omvat\, zowel voor eenmanszaken als voor grotere bouwbedrijven in die branches. Bouw en techniek staat tijdens Vabotech 2022 centraal.\nDeelnemer aan Vabotech 2022\, maar nog geen representatieve beursstand? Contact ons eens voor de mogelijkheden.
URL:https://cialona.nl/beurs/vabotech/
LOCATION:RAI Amsterdam
CATEGORIES:Beurzen
END:VEVENT
END:VCALENDAR