BEGIN:VCALENDAR
VERSION:2.0
PRODID:-//YourCompany//NONSGML v1.0//EN
BEGIN:VEVENT
SUMMARY:Intertraffic
DTSTART:20260310T000000Z
DTEND:20260313T235959Z
LOCATION:
DESCRIPTION:Intertraffic 2026. "Ervaar de nieuwste oplossingen voor de uitdagingen van vandaag met alle experts in het veld. Ontdek de laatste trends in infrastructuur, verkeersmanagement, slimme mobiliteit, verkeersveiligheid en parkeren!" https://www.intertraffic.com/amsterdam/
END:VEVENT
END:VCALENDAR