BEGIN:VCALENDAR
VERSION:2.0
PRODID:-//YourCompany//NONSGML v1.0//EN
BEGIN:VEVENT
SUMMARY:Achema
DTSTART:20270614T000000Z
DTEND:20270618T235959Z
LOCATION:
DESCRIPTION:Achema 2027. The world's leading trade show for process industry experts, decision makers and trendsetters in chemical engineering and biotechnology from around the world.

Exhibitor during Achema 2027? Cialona Expo is full service booth builder, including for this trade show. Contact us for the possibilities.
END:VEVENT
END:VCALENDAR