BEGIN:VCALENDAR
VERSION:2.0
PRODID:-//YourCompany//NONSGML v1.0//EN
BEGIN:VEVENT
SUMMARY:Ambiente
DTSTART:20250207T000000Z
DTEND:20250211T235959Z
LOCATION:
DESCRIPTION:Ambiente 2025 Messe Frankfurt.
END:VEVENT
END:VCALENDAR