BEGIN:VCALENDAR
VERSION:2.0
PRODID:-//YourCompany//NONSGML v1.0//EN
BEGIN:VEVENT
SUMMARY:Amsterdam Drone Week (ADM)
DTSTART:20250408T000000Z
DTEND:20250410T235959Z
LOCATION:
DESCRIPTION:Amsterdam Drone Week ADM 2025.
Amsterdam Drone week is het wereldwijde platform voor het delen van kennis over actuele luchtoplossingen, mogelijke innovaties en vitale regelgeving. Tijdens ADW komen alle belangrijke spelers, groot en klein, commercieel en niet-commercieel, uit verschillende industrieÃ«n, kennisinstellingen en overheden samen om samen te creÃ«ren en samen te werken.
END:VEVENT
END:VCALENDAR