BEGIN:VCALENDAR
VERSION:2.0
PRODID:-//YourCompany//NONSGML v1.0//EN
BEGIN:VEVENT
SUMMARY:Anga com
DTSTART:20250603T000000Z
DTEND:20250605T235959Z
LOCATION:
DESCRIPTION:Anga Com 2025. ANGA COM is Europe's product conference fair for broadband, television and online. Network administrators, equipment suppliers and content providers meet te discuss all issues related to broadband and media distribution. https://angacom.de/

The main topics of ANGA COM are: Gigabit Networks, FTTX, 5G, OTT, AppTV, Cloud TV, Video Streaming, Smart City and Smart Home. Recently, ANGA COM counted more than 500 exhibitors from 35 countries and 20.000 participants from 83 countries.
END:VEVENT
END:VCALENDAR