BEGIN:VCALENDAR
VERSION:2.0
PRODID:-//YourCompany//NONSGML v1.0//EN
BEGIN:VEVENT
SUMMARY:Bau Munchen
DTSTART:20270111T000000Z
DTEND:20270115T235959Z
LOCATION:
DESCRIPTION:Bau Munchen is een grote internationale vakbeurs voor achitectuur, materialen en systemen die plaatsvindt in MÃ¼nchen, Duitsland. Deze beurs brengt professionals bij elkaar uit de bouw- en achitectuursector die hier de nieuwste innovaties, trends en technologieÃ«n laten zien en ontdekken.

De Bau biedt door zijn uitgebreid aanbod aan exposanten, seminars en workshops een goede kans om kennis uit te wisselen, netwerken en baanbrekende oplossingen te ontdekken. Dus, voor organisaties actief in de bouw en ontwerpindustrie is dit dÃ© beurs!

Bent u exposant tijdens de Bau 2027 in Messe Munchen? Cialona Expo standbouw, thuis in deze beurshal en in de branche, voorziet u graag van een passende beursstand. Contact u ons?
END:VEVENT
END:VCALENDAR