BEGIN:VCALENDAR
VERSION:2.0
PRODID:-//YourCompany//NONSGML v1.0//EN
BEGIN:VEVENT
SUMMARY:Eisenwarenmesse
DTSTART:20260303T000000Z
DTEND:20260306T235959Z
LOCATION:
DESCRIPTION:Eisenwarenmesse 2024. The Eisenwarenmesse offers visitors a wide range of trends and new products in the field of tools.
END:VEVENT
END:VCALENDAR