BEGIN:VCALENDAR
VERSION:2.0
PRODID:-//YourCompany//NONSGML v1.0//EN
BEGIN:VEVENT
SUMMARY:Electric & Hybrid Marine World Expo
DTSTART:20250624T000000Z
DTEND:20250626T235959Z
LOCATION:
DESCRIPTION:Electric &amp; Hybrid Marine World Expo 2025. The international trade fair for electric and hybrid ship charging and propulsion technologies and components. Need exhibition stand for Electric &amp; Hybrid Marine World Expo 2025? Cialona Expo will be happy to help you find a suitable booth.
END:VEVENT
END:VCALENDAR