BEGIN:VCALENDAR
VERSION:2.0
PRODID:-//YourCompany//NONSGML v1.0//EN
BEGIN:VEVENT
SUMMARY:EuroCIS
DTSTART:20250218T000000Z
DTEND:20250220T235959Z
LOCATION:
DESCRIPTION:EuroCIS 2025 takes place in Dusseldorf, Germany. EuroCIS 2025 is the trade fair for retail technology in Europe. This fair brings together players who are on their way to a digital retail future.

Looking for a standbuilder to make sure you stand out? Please get in touch with us!
END:VEVENT
END:VCALENDAR