BEGIN:VCALENDAR
VERSION:2.0
PRODID:-//YourCompany//NONSGML v1.0//EN
BEGIN:VEVENT
SUMMARY:EXPO REAL
DTSTART:20261005T000000Z
DTEND:20261007T235959Z
LOCATION:
DESCRIPTION:EXPO REAL 2026 in Messe Munchen. EXPO REAL Munchen is voor de grote spelers in de vastgoedsector en dat alles op een plek in Messe Munchen. Bezoekers komen hier om informatie te vergaren over alle facetten binnen de vastgoedbranche. De hele levenscyclus van concept en ontwikkeling, financiering, realisatie, marketing, exploitatie en gebruik komen hier aan bod.

Bent u als exposant aanwezig tijdens EXPO REAL vastgoedbeurs in Munchen? Cialona Expo helpt u graag met een unieke beursstand! Wij hebben veel ervaring met beursstands van organisaties in de vastgoedbranche, kijk bijvoorbeeld de stand van Van Wijnen op de Provada.

Eens kennismaken?Â 

&nbsp;
END:VEVENT
END:VCALENDAR