BEGIN:VCALENDAR
VERSION:2.0
PRODID:-//YourCompany//NONSGML v1.0//EN
BEGIN:VEVENT
SUMMARY:Fachpack
DTSTART:20250923T000000Z
DTEND:20250925T235959Z
LOCATION:
DESCRIPTION:Fachpack 2025 is the European Trade Fair for Packaging, Technology and Processing. Fachpack 2025 is from September 23 to 25.

It is an important exhibition for the European packaging industry and its activities. In this three-day trade fair, more than 780 exhibitors and 24,000 visitors come to Fachpack outgoing sectors in search of the hold luggage solutions of tomorrow.

Are you at Fachpack 2025? We are happy to build your exhibition stand with your organization that will be the talk of the town during Fachpack 2025. Please contact us so that we can schedule a first meeting: visit our contact page.
END:VEVENT
END:VCALENDAR