BEGIN:VCALENDAR
VERSION:2.0
PRODID:-//YourCompany//NONSGML v1.0//EN
BEGIN:VEVENT
SUMMARY:Foam Expo Europe
DTSTART:20251111T000000Z
DTEND:20251113T235959Z
LOCATION:
DESCRIPTION:Foam Expo Europe. Europe's largest trade show and conference focusing on technical foam products and their production. This is the place for players in the foam industry to connect with each other and see the latest technologies and ideas here.

Present as an exhibitor at the next edition of Foam Expo Europe? Cialona Expo, with years of stand-building experience and experience at the Foam Expo Europe, will be happy to help you realize a suitable exhibition stand.
END:VEVENT
END:VCALENDAR