BEGIN:VCALENDAR
VERSION:2.0
PRODID:-//YourCompany//NONSGML v1.0//EN
BEGIN:VEVENT
SUMMARY:Formnext
DTSTART:20251118T000000Z
DTEND:20251121T235959Z
LOCATION:
DESCRIPTION:Formnext 2025 is the international meeting point for the next generation of intelligent industrial production. Both in Frankfurt am Main and digitally. It is a leading industry platform for additive manufacturing and industrial 3D printing.

Are you an exhibitor at Formnext 2025? Contact us, we would be happy to help you get an eye-catching custom booth!

&nbsp;
END:VEVENT
END:VCALENDAR