BEGIN:VCALENDAR
VERSION:2.0
PRODID:-//YourCompany//NONSGML v1.0//EN
BEGIN:VEVENT
SUMMARY:GIFA
DTSTART:20270621T000000Z
DTEND:20270625T235959Z
LOCATION:
DESCRIPTION:GIFA 2027, the stock exchange quartet: GIFA, METEC, THERMPROCESS and NEWCAST is the platform for meetings and doing business. International purchasers, users, experts and decision-makers from the metallurgy, heat engineering and foundry industries meet here at four events, at the same time and in the same place.

Are you there? We are happy to take care of your exhibition stand during GIFA METEC THERMPROCESS NEWCAST 2027 in Dusseldorf.
END:VEVENT
END:VCALENDAR