BEGIN:VCALENDAR
VERSION:2.0
PRODID:-//YourCompany//NONSGML v1.0//EN
BEGIN:VEVENT
SUMMARY:Glasstec
DTSTART:20261020T000000Z
DTEND:20261023T235959Z
LOCATION:
DESCRIPTION:Glasstec 2026, The international trade fair for glass production, processing and products.
END:VEVENT
END:VCALENDAR