BEGIN:VCALENDAR
VERSION:2.0
PRODID:-//YourCompany//NONSGML v1.0//EN
BEGIN:VEVENT
SUMMARY:ICT & Logistiek
DTSTART:20251104T000000Z
DTEND:20251106T235959Z
LOCATION:
DESCRIPTION:ICT &amp; Logistics 2025 in Jaarbeurs Utrecht. ICT &amp; Logistiek is the hotspot for the logistics sector with plenty of inspiration, information and networking opportunities to take the next steps in your business. This fair coincides with the Logistica Next and thus offers a full spectrum to its visitors. Here you will come across all kinds of inspiring stories and innovative solutions that show you how to digitize your logistics operation and thereby make it smarter and better.

Are you an exhibitor at ICT &amp; Logistiek 2025 in Jaarbeurs Utrecht? Cialona Expo will be happy to help you find a suitable exhibition stand that will make you stand out on the trade show floor.

Contact us today!
END:VEVENT
END:VCALENDAR