BEGIN:VCALENDAR
VERSION:2.0
PRODID:-//YourCompany//NONSGML v1.0//EN
BEGIN:VEVENT
SUMMARY:Interpack
DTSTART:20260507T000000Z
DTEND:20260513T235959Z
LOCATION:
DESCRIPTION:Interpack 2026. Interpack is een internationale verpakkingsbeurs voor de sectoren food, dranken, zoetwaren, bakkerij, farmacie, cosmetica, non-food en industrie.
END:VEVENT
END:VCALENDAR