BEGIN:VCALENDAR
VERSION:2.0
PRODID:-//YourCompany//NONSGML v1.0//EN
BEGIN:VEVENT
SUMMARY:Interspill
DTSTART:20250408T000000Z
DTEND:20250410T235959Z
LOCATION:
DESCRIPTION:Interspill 2025 is the conference and trade show on oil spills. Interspill 2025 is at Excel London. This event focuses on the potential issues that may arise from future oil spills and provides a platform for international experts and industry leaders. Here they can showcase innovations, business developments and discuss and network together. A valuable event.
Are you attending, but don't have a suitable exhibition stand yet? Contact us, we would be happy to come and meet you!     
END:VEVENT
END:VCALENDAR