BEGIN:VCALENDAR
VERSION:2.0
PRODID:-//YourCompany//NONSGML v1.0//EN
BEGIN:VEVENT
SUMMARY:IPM
DTSTART:20270126T000000Z
DTEND:20270129T235959Z
LOCATION:
DESCRIPTION:IPM 2027 is 's werelds toonaangevende vakbeurs voor de tuinbouw: het belangrijkste wereldwijde evenement binnen deze branche. Het is al 35 jaar het belangrijkste zakelijke platform voor beslissers, kopers en optieleiders. Wilt u opvallen tijdens IPM 2027? Wij ontwerpen, bouwen en realiseren uw unieke, op maat gemaakte beursstand! Contact ons!Â 
END:VEVENT
END:VCALENDAR