BEGIN:VCALENDAR
VERSION:2.0
PRODID:-//YourCompany//NONSGML v1.0//EN
BEGIN:VEVENT
SUMMARY:ISH
DTSTART:20270315T000000Z
DTEND:20270319T235959Z
LOCATION:
DESCRIPTION:ISH 2027 is the world's leading trade fair for HVAC + Water in Frankfurt am Main. The motto of this year's installation trade fair is "solutions for a sustainable future. 

For five days, this HVAC + water show is all about innovations that contribute to achieving climate goals and using resources responsibly and efficiently.

Are you an exhibitor at ISH 2027 in Messe Frankfurt am Main? We will be happy to help you find a suitable exhibition stand! Get in touch with us:Â   
END:VEVENT
END:VCALENDAR