BEGIN:VCALENDAR
VERSION:2.0
PRODID:-//YourCompany//NONSGML v1.0//EN
BEGIN:VEVENT
SUMMARY:KBB 2026
DTSTART:20260301T000000Z
DTEND:20260304T235959Z
LOCATION:
DESCRIPTION:KBB 2026, the KBB is the "Kitchen, bedroom and bathroom" trade show in Birmingham, England. The four-day fair is an industry leading trade show and hosts the biggest brands. Globally, it is an important fair. In 2024, team Cialona created an innovative sustainable stand for Quooker, known for its boiling water faucets, check it out in our portfolio.

Exhibitor during KBB 2026? Don't wait any longer and contact us!
END:VEVENT
END:VCALENDAR