BEGIN:VCALENDAR
VERSION:2.0
PRODID:-//YourCompany//NONSGML v1.0//EN
BEGIN:VEVENT
SUMMARY:KNMP Najaarscongres
DTSTART:20251028T000000Z
DTEND:20251028T235959Z
LOCATION:
DESCRIPTION:Het KNMP Najaarscongres 2025. De Koninklijke Nederlandse Maatschappij ter bevordering der Pharmacie (KNMP) is de beroeps- en brancheorganisatie voor apothekers enÂ apotheken. Tijdens het congres komen spelers uit de branche bij elkaar om te netwerken en nieuwe ontwikkelingen te bespreken.

Bent u exposant tijdens het KNMP Najaarscongres 2025 in het Beatrixtheater in Utrecht? Wij realiseren graag een passende beursstand voor uw organisatie.

&nbsp;
END:VEVENT
END:VCALENDAR