BEGIN:VCALENDAR
VERSION:2.0
PRODID:-//YourCompany//NONSGML v1.0//EN
BEGIN:VEVENT
SUMMARY:Light and Building
DTSTART:20260308T000000Z
DTEND:20260313T235959Z
LOCATION:
DESCRIPTION:Light and Building 2026. the Light + Building fair is the international fair for trends in lighting, electrical engineering and smarthome. This is the most important fair within these industries. Here all major players come together to present the latest trends and innovations to a large audience. The six-day fair in Frankfurt Am Main offers space for numerous exhibitors and many more visitors. Will you be there? Cialona Expo will be happy to provide you with an eye-catching but sustainable exhibition stand that will make you stand out on the exhibition floor of the Light + Building 2026 in Messe Frankfurt.
END:VEVENT
END:VCALENDAR