BEGIN:VCALENDAR
VERSION:2.0
PRODID:-//YourCompany//NONSGML v1.0//EN
BEGIN:VEVENT
SUMMARY:Offshore Energy
DTSTART:20261124T000000Z
DTEND:20261125T235959Z
LOCATION:
DESCRIPTION:Offshore Energy 2024

Offshore Energy Exhibition &amp; Conference is Europe's opportunity energy event for the entire offshore energy business industry and to reach highly qualified experts and professionals in financial markets.

Need an Exhibition Stand for Offshore Energy 2024? Please contact us for a custom quotation.
END:VEVENT
END:VCALENDAR