BEGIN:VCALENDAR
VERSION:2.0
PRODID:-//YourCompany//NONSGML v1.0//EN
BEGIN:VEVENT
SUMMARY:Paris Packaging week
DTSTART:20250128T000000Z
DTEND:20250129T235959Z
LOCATION:
DESCRIPTION:Paris Packaging week 2025, is een event onderverdeeld in verschillende beurzen voor de aerosol-, uitgifte-, parfum-, cosmetica- en premium luxe drankverpakkingen. Tijdens Paris Packaging Week worden innovatieve technologieÃ«n en zakelijke oplossingen getoond aan de markt.

Hier kun je netwerken met mensen uit de branche, en eveneens op de hoogte blijven van alle ontwikkelingen.

Bent u exposant tijdens Paris Packaging week 2025? Wij verzorgen graag van A tot Z uw beursstand. Neemt u contact met ons op?
END:VEVENT
END:VCALENDAR