BEGIN:VCALENDAR
VERSION:2.0
PRODID:-//YourCompany//NONSGML v1.0//EN
BEGIN:VEVENT
SUMMARY:Second Home Beurs
DTSTART:20220930T000000Z
DTEND:20221002T235959Z
LOCATION:
DESCRIPTION:De Second Home Beurs in Utrecht is de beurs voor mensen die op zoek zijn naar een tweede huis. Jaarlijks trekt deze beurs ruim 15000 bezoekers.

Bent u exposant tijdens de Second Home Beurs in Jaarbeurs Utrecht? Wij ontwerpen en realiseren graag uw beursstand.
END:VEVENT
END:VCALENDAR