BEGIN:VCALENDAR
VERSION:2.0
PRODID:-//YourCompany//NONSGML v1.0//EN
BEGIN:VEVENT
SUMMARY:Solar Solutions International
DTSTART:20270316T000000Z
DTEND:20270318T235959Z
LOCATION:
DESCRIPTION:Solar Solutions International 2025 is the largest trade fair for solar energy in Northwestern Europe. Solar Solutions International revolves around more than 500 innovations and 100 seminars about the latest developments, products and range of panels. https://www.solarsolutions.nl/

Exhibition Stand For Solar Solutions International Amsterdam, Dusseldorf, Kortrijk, Bremen or Dusseldorf? Contact Cialona Expo Standbuilders.
END:VEVENT
END:VCALENDAR