BEGIN:VCALENDAR
VERSION:2.0
PRODID:-//YourCompany//NONSGML v1.0//EN
BEGIN:VEVENT
SUMMARY:Spannabis
DTSTART:20250314T000000Z
DTEND:20250316T235959Z
LOCATION:
DESCRIPTION:Spannabis 2025 in Barcelona. Spannabis will be in Barcelona from 14 - 16 March 2025. Spannabis is the trade fair for the cannabis sector worldwide.

At this fair you will find everything related to the cannabis industry, such as products related to the hemp plant, its industrial uses, cosmetics, shoes, textiles, building materials, food, seeds and agricultural systems.

Too many to list, the fair is all-encompassing. Spannabis exhibitors and visitors come from all over the world, which makes everything very diverse.

Need exhibition stand for Spannabis 2025 in Barcelona? Cialona Expo!
END:VEVENT
END:VCALENDAR