BEGIN:VCALENDAR
VERSION:2.0
PRODID:-//YourCompany//NONSGML v1.0//EN
BEGIN:VEVENT
SUMMARY:Vakbeurs Facilitair
DTSTART:20250603T000000Z
DTEND:20250605T235959Z
LOCATION:
DESCRIPTION:In June 2025 the Vakbeurs Facilitair will again take place in the Brabanthallen in Den Bosch.Â Â The trade fair that you should definitely attend as a professional in the Facilities industry. New developments are shared here and many new relationships are established here. Are you at Vakbeurs Facilitair 2025? We are happy to build the exhibition stand!
END:VEVENT
END:VCALENDAR