BEGIN:VCALENDAR
VERSION:2.0
PRODID:-//YourCompany//NONSGML v1.0//EN
BEGIN:VEVENT
SUMMARY:Webwinkel Vakdagen
DTSTART:20270407T000000Z
DTEND:20270408T235959Z
LOCATION:
DESCRIPTION:Webwinkel vakdagen 2025 in Jaarbeurs Utrecht. The Webwinkel Vakdagen is the annual event for professionals in the e-commerce world looking for inspiration, innovation and knowledge. With an extensive program of seminars, workshops and exhibition booths, this exhibition offers a unique opportunity to discover the latest trends that can make the difference for online businesses.

Whether it comes to marketing, logistics or customer experience, at the Webwinkel Vakdagen you will find everything to take a webshop to the next level.

Are you an exhibitor at the Webwinkel Vakdagen 2025? We would love to work with you to develop the most striking booth of the trade show!

Contact us today for an informal meeting!
END:VEVENT
END:VCALENDAR