BEGIN:VCALENDAR
VERSION:2.0
PRODID:-//YourCompany//NONSGML v1.0//EN
BEGIN:VEVENT
SUMMARY:WoTS
DTSTART:20260922T000000Z
DTEND:20260925T235959Z
LOCATION:
DESCRIPTION:WoTS 2026. De World of Technology &amp; Science en Industrial Processing zijn samengegaan in Ã©Ã©n beurs genaamd de World of Technology &amp; Science 2026. De WoTS is opgedeeld in vijf verschillende themaâ€™s: World of Automation, World of Laboratory, World of Motion &amp; Drives, World of Electronics en World of Industrial Processing.

Als exposant aanwezig tijdens WoTS in Jaarbeurs Utrecht? Wij realiseren graag uw beursstand waarmee u opvalt op de beursvloer!
END:VEVENT
END:VCALENDAR